Package: PhenoGeneRanker Version: 1.17.0 Command: /home/biocbuild/R/R/bin/R CMD build --keep-empty-dirs --no-resave-data PhenoGeneRanker StartedAt: 2025-07-25 02:48:35 -0000 (Fri, 25 Jul 2025) EndedAt: 2025-07-25 02:56:48 -0000 (Fri, 25 Jul 2025) EllapsedTime: 492.5 seconds RetCode: 0 Status: OK PackageFile: PhenoGeneRanker_1.17.0.tar.gz PackageFileSize: 28.81 KiB