Package: PhenoGeneRanker Version: 1.17.0 Command: /Library/Frameworks/R.framework/Resources/bin/R CMD INSTALL PhenoGeneRanker StartedAt: 2025-10-06 15:10:18 -0400 (Mon, 06 Oct 2025) EndedAt: 2025-10-06 15:10:53 -0400 (Mon, 06 Oct 2025) EllapsedTime: 34.8 seconds RetCode: 0 Status: OK