Package: PhenoGeneRanker Version: 1.17.0 Command: /Library/Frameworks/R.framework/Resources/bin/R CMD check --install=check:PhenoGeneRanker.install-out.txt --library=/Library/Frameworks/R.framework/Resources/library --no-vignettes --timings PhenoGeneRanker_1.17.0.tar.gz StartedAt: 2025-10-06 23:46:49 -0400 (Mon, 06 Oct 2025) EndedAt: 2025-10-06 23:48:43 -0400 (Mon, 06 Oct 2025) EllapsedTime: 113.2 seconds RetCode: 0 Status: OK CheckDir: PhenoGeneRanker.Rcheck Warnings: 0