Package: PhenoGeneRanker Version: 1.17.0 Command: /Library/Frameworks/R.framework/Resources/bin/R CMD check --install=check:PhenoGeneRanker.install-out.txt --library=/Library/Frameworks/R.framework/Resources/library --no-vignettes --timings PhenoGeneRanker_1.17.0.tar.gz StartedAt: 2025-10-05 21:01:26 -0400 (Sun, 05 Oct 2025) EndedAt: 2025-10-05 21:02:03 -0400 (Sun, 05 Oct 2025) EllapsedTime: 36.4 seconds RetCode: 0 Status: OK CheckDir: PhenoGeneRanker.Rcheck Warnings: 0