Package: PhenoGeneRanker Version: 1.17.0 Command: /Library/Frameworks/R.framework/Resources/bin/R CMD build --keep-empty-dirs --no-resave-data PhenoGeneRanker StartedAt: 2025-10-05 17:22:19 -0400 (Sun, 05 Oct 2025) EndedAt: 2025-10-05 17:24:31 -0400 (Sun, 05 Oct 2025) EllapsedTime: 131.5 seconds RetCode: 0 Status: OK PackageFile: PhenoGeneRanker_1.17.0.tar.gz PackageFileSize: 28.19 KiB