Package: PhenStat Version: 2.45.0 Command: /home/biocbuild/R/R/bin/R CMD build --keep-empty-dirs --no-resave-data PhenStat StartedAt: 2025-07-11 02:58:21 -0000 (Fri, 11 Jul 2025) EndedAt: 2025-07-11 02:58:56 -0000 (Fri, 11 Jul 2025) EllapsedTime: 35.0 seconds RetCode: 0 Status: OK PackageFile: PhenStat_2.45.0.tar.gz PackageFileSize: 675.3 KiB