Package: PhenStat Version: 2.45.0 Command: F:\biocbuild\bbs-3.22-bioc\R\bin\R.exe CMD INSTALL PhenStat StartedAt: 2025-07-15 17:14:41 -0400 (Tue, 15 Jul 2025) EndedAt: 2025-07-15 17:14:42 -0400 (Tue, 15 Jul 2025) EllapsedTime: 0.5 seconds RetCode: 1 Status: ERROR