############################################################################## ############################################################################## ### ### Running command: ### ### F:\biocbuild\bbs-3.22-bioc\R\bin\R.exe CMD INSTALL PhenStat ### ############################################################################## ############################################################################## * installing to library 'F:/biocbuild/bbs-3.22-bioc/R/library' ERROR: dependency 'SmoothWin' is not available for package 'PhenStat' Perhaps try a variation of: install.packages('SmoothWin') * removing 'F:/biocbuild/bbs-3.22-bioc/R/library/PhenStat'