Package: PhenStat Version: 2.45.0 Command: F:\biocbuild\bbs-3.22-bioc\R\bin\R.exe CMD check --no-multiarch --install=check:PhenStat.install-out.txt --library=F:\biocbuild\bbs-3.22-bioc\R\library --no-vignettes --timings PhenStat_2.45.0.tar.gz StartedAt: 2025-06-19 05:13:09 -0400 (Thu, 19 Jun 2025) EndedAt: 2025-06-19 05:16:03 -0400 (Thu, 19 Jun 2025) EllapsedTime: 174.1 seconds RetCode: 0 Status: OK CheckDir: PhenStat.Rcheck Warnings: 0