Package: PhenStat Version: 2.45.0 Command: chmod a+r PhenStat -R && F:\biocbuild\bbs-3.22-bioc\R\bin\R.exe CMD build --keep-empty-dirs --no-resave-data PhenStat StartedAt: 2025-07-16 21:08:44 -0400 (Wed, 16 Jul 2025) EndedAt: 2025-07-16 21:08:54 -0400 (Wed, 16 Jul 2025) EllapsedTime: 9.8 seconds RetCode: 1 Status: ERROR PackageFile: None PackageFileSize: NA