Package: PhenStat Version: 2.45.0 Command: /Library/Frameworks/R.framework/Resources/bin/R CMD INSTALL PhenStat StartedAt: 2025-07-01 15:33:38 -0400 (Tue, 01 Jul 2025) EndedAt: 2025-07-01 15:33:38 -0400 (Tue, 01 Jul 2025) EllapsedTime: 0.1 seconds RetCode: 1 Status: ERROR