Package: PhenStat Version: 2.45.0 Command: /Library/Frameworks/R.framework/Resources/bin/R CMD build --keep-empty-dirs --no-resave-data PhenStat StartedAt: 2025-07-01 17:12:02 -0400 (Tue, 01 Jul 2025) EndedAt: 2025-07-01 17:12:03 -0400 (Tue, 01 Jul 2025) EllapsedTime: 1.0 seconds RetCode: 1 Status: ERROR PackageFile: None PackageFileSize: NA