Package: PhenStat Version: 2.45.0 Command: rm -rf PhenStat.buildbin-libdir && mkdir PhenStat.buildbin-libdir && /Users/biocbuild/BBS/utils/build-universal.sh PhenStat_2.45.0.tar.gz /Library/Frameworks/R.framework/Resources/bin/R PhenStat.buildbin-libdir StartedAt: 2025-06-18 22:32:32 -0400 (Wed, 18 Jun 2025) EndedAt: 2025-06-18 22:32:40 -0400 (Wed, 18 Jun 2025) EllapsedTime: 7.2 seconds RetCode: 0 Status: OK PackageFile: PhenStat_2.45.0.tgz PackageFileSize: 1.262 MiB