Package: PharmacoGx Version: 3.13.2 Command: /home/biocbuild/R/R/bin/R CMD build --keep-empty-dirs --no-resave-data PharmacoGx StartedAt: 2025-07-11 02:57:36 -0000 (Fri, 11 Jul 2025) EndedAt: 2025-07-11 02:59:24 -0000 (Fri, 11 Jul 2025) EllapsedTime: 108.1 seconds RetCode: 0 Status: OK PackageFile: PharmacoGx_3.13.2.tar.gz PackageFileSize: 4.536 MiB