Package: PharmacoGx Version: 3.13.2 Command: /Library/Frameworks/R.framework/Resources/bin/R CMD INSTALL PharmacoGx StartedAt: 2025-07-01 15:12:22 -0400 (Tue, 01 Jul 2025) EndedAt: 2025-07-01 15:12:39 -0400 (Tue, 01 Jul 2025) EllapsedTime: 17.2 seconds RetCode: 0 Status: OK