Package: PharmacoGx Version: 3.13.2 Command: /Library/Frameworks/R.framework/Resources/bin/R CMD build --keep-empty-dirs --no-resave-data PharmacoGx StartedAt: 2025-07-01 17:11:42 -0400 (Tue, 01 Jul 2025) EndedAt: 2025-07-01 17:12:17 -0400 (Tue, 01 Jul 2025) EllapsedTime: 34.4 seconds RetCode: 0 Status: OK PackageFile: PharmacoGx_3.13.2.tar.gz PackageFileSize: 4.467 MiB