Package: PepsNMR Version: 1.27.0 Command: /home/biocbuild/R/R/bin/R CMD INSTALL PepsNMR StartedAt: 2025-10-02 20:29:37 -0000 (Thu, 02 Oct 2025) EndedAt: 2025-10-02 20:30:21 -0000 (Thu, 02 Oct 2025) EllapsedTime: 44.1 seconds RetCode: 0 Status: OK