Package: PepsNMR Version: 1.27.0 Command: /home/biocbuild/R/R/bin/R CMD check --install=check:PepsNMR.install-out.txt --library=/home/biocbuild/R/R/site-library --no-vignettes --timings PepsNMR_1.27.0.tar.gz StartedAt: 2025-10-03 10:08:20 -0000 (Fri, 03 Oct 2025) EndedAt: 2025-10-03 10:15:34 -0000 (Fri, 03 Oct 2025) EllapsedTime: 433.5 seconds RetCode: 0 Status: OK CheckDir: PepsNMR.Rcheck Warnings: 0