Package: PepsNMR Version: 1.27.0 Command: rm -rf PepsNMR.buildbin-libdir && mkdir PepsNMR.buildbin-libdir && F:\biocbuild\bbs-3.22-bioc\R\bin\R.exe CMD INSTALL --build --library=PepsNMR.buildbin-libdir PepsNMR_1.27.0.tar.gz StartedAt: 2025-08-15 10:56:30 -0400 (Fri, 15 Aug 2025) EndedAt: 2025-08-15 10:56:58 -0400 (Fri, 15 Aug 2025) EllapsedTime: 28.6 seconds RetCode: 0 Status: OK PackageFile: PepsNMR_1.27.0.zip PackageFileSize: 809.4 KiB