Package: PepsNMR Version: 1.27.0 Command: /home/biocbuild/bbs-3.22-bioc/R/bin/R CMD INSTALL PepsNMR StartedAt: 2025-10-03 15:09:46 -0400 (Fri, 03 Oct 2025) EndedAt: 2025-10-03 15:10:00 -0400 (Fri, 03 Oct 2025) EllapsedTime: 13.1 seconds RetCode: 0 Status: OK