Package: PepsNMR Version: 1.27.0 Command: /home/biocbuild/bbs-3.22-bioc/R/bin/R CMD build --keep-empty-dirs --no-resave-data --md5 PepsNMR StartedAt: 2025-10-05 19:20:00 -0400 (Sun, 05 Oct 2025) EndedAt: 2025-10-05 19:23:15 -0400 (Sun, 05 Oct 2025) EllapsedTime: 195.2 seconds RetCode: 0 Status: OK PackageFile: PepsNMR_1.27.0.tar.gz PackageFileSize: 1.446 MiB