Package: PepsNMR Version: 1.27.0 Command: /Library/Frameworks/R.framework/Resources/bin/R CMD check --install=check:PepsNMR.install-out.txt --library=/Library/Frameworks/R.framework/Resources/library --no-vignettes --timings PepsNMR_1.27.0.tar.gz StartedAt: 2025-10-05 23:35:42 -0400 (Sun, 05 Oct 2025) EndedAt: 2025-10-05 23:47:17 -0400 (Sun, 05 Oct 2025) EllapsedTime: 694.7 seconds RetCode: 0 Status: OK CheckDir: PepsNMR.Rcheck Warnings: 0