Package: PepsNMR Version: 1.27.0 Command: /Library/Frameworks/R.framework/Resources/bin/R CMD INSTALL PepsNMR StartedAt: 2025-10-03 15:06:09 -0400 (Fri, 03 Oct 2025) EndedAt: 2025-10-03 15:06:15 -0400 (Fri, 03 Oct 2025) EllapsedTime: 6.5 seconds RetCode: 0 Status: OK