Package: PepSetTest Version: 1.3.0 Command: /Library/Frameworks/R.framework/Resources/bin/R CMD INSTALL PepSetTest StartedAt: 2025-07-07 15:14:59 -0400 (Mon, 07 Jul 2025) EndedAt: 2025-07-07 15:15:01 -0400 (Mon, 07 Jul 2025) EllapsedTime: 1.2 seconds RetCode: 0 Status: OK