Package: PepSetTest Version: 1.3.0 Command: /Library/Frameworks/R.framework/Resources/bin/R CMD build --keep-empty-dirs --no-resave-data PepSetTest StartedAt: 2025-07-07 17:09:53 -0400 (Mon, 07 Jul 2025) EndedAt: 2025-07-07 17:10:02 -0400 (Mon, 07 Jul 2025) EllapsedTime: 9.1 seconds RetCode: 0 Status: OK PackageFile: PepSetTest_1.3.0.tar.gz PackageFileSize: 248.5 KiB