Package: Pedixplorer Version: 1.5.3 Command: /home/biocbuild/R/R/bin/R CMD INSTALL Pedixplorer StartedAt: 2025-07-14 20:25:12 -0000 (Mon, 14 Jul 2025) EndedAt: 2025-07-14 20:25:40 -0000 (Mon, 14 Jul 2025) EllapsedTime: 27.6 seconds RetCode: 0 Status: OK