Package: Pedixplorer Version: 1.5.3 Command: /home/biocbuild/R/R/bin/R CMD check --install=check:Pedixplorer.install-out.txt --library=/home/biocbuild/R/R/site-library --no-vignettes --timings Pedixplorer_1.5.3.tar.gz StartedAt: 2025-07-18 09:48:29 -0000 (Fri, 18 Jul 2025) EndedAt: 2025-07-18 09:52:24 -0000 (Fri, 18 Jul 2025) EllapsedTime: 235.2 seconds RetCode: 0 Status: OK CheckDir: Pedixplorer.Rcheck Warnings: 0