Package: Pedixplorer Version: 1.5.5 Command: F:\biocbuild\bbs-3.22-bioc\R\bin\R.exe CMD INSTALL Pedixplorer StartedAt: 2025-07-24 15:48:15 -0400 (Thu, 24 Jul 2025) EndedAt: 2025-07-24 15:52:01 -0400 (Thu, 24 Jul 2025) EllapsedTime: 225.4 seconds RetCode: 0 Status: OK