Package: Pedixplorer Version: 1.5.5 Command: chmod a+r Pedixplorer -R && F:\biocbuild\bbs-3.22-bioc\R\bin\R.exe CMD build --keep-empty-dirs --no-resave-data Pedixplorer StartedAt: 2025-07-24 21:19:24 -0400 (Thu, 24 Jul 2025) EndedAt: 2025-07-24 21:23:29 -0400 (Thu, 24 Jul 2025) EllapsedTime: 244.8 seconds RetCode: 0 Status: OK PackageFile: Pedixplorer_1.5.5.tar.gz PackageFileSize: 4.793 MiB