Package: Pedixplorer Version: 1.5.3 Command: /home/biocbuild/bbs-3.22-bioc/R/bin/R CMD INSTALL Pedixplorer StartedAt: 2025-07-18 15:11:23 -0400 (Fri, 18 Jul 2025) EndedAt: 2025-07-18 15:11:41 -0400 (Fri, 18 Jul 2025) EllapsedTime: 18.7 seconds RetCode: 0 Status: OK