Package: Pedixplorer Version: 1.5.3 Command: /home/biocbuild/bbs-3.22-bioc/R/bin/R CMD check --install=check:Pedixplorer.install-out.txt --library=/home/biocbuild/bbs-3.22-bioc/R/site-library --timings Pedixplorer_1.5.3.tar.gz StartedAt: 2025-07-19 01:09:00 -0400 (Sat, 19 Jul 2025) EndedAt: 2025-07-19 01:13:18 -0400 (Sat, 19 Jul 2025) EllapsedTime: 258.2 seconds RetCode: 0 Status: OK CheckDir: Pedixplorer.Rcheck Warnings: 0