Package: Pedixplorer Version: 1.5.3 Command: /home/biocbuild/bbs-3.22-bioc/R/bin/R CMD build --keep-empty-dirs --no-resave-data --md5 Pedixplorer StartedAt: 2025-07-18 18:31:05 -0400 (Fri, 18 Jul 2025) EndedAt: 2025-07-18 18:32:31 -0400 (Fri, 18 Jul 2025) EllapsedTime: 86.1 seconds RetCode: 0 Status: OK PackageFile: Pedixplorer_1.5.3.tar.gz PackageFileSize: 5.796 MiB