Package: PeacoQC Version: 1.19.0 Command: /home/biocbuild/R/R/bin/R CMD build --keep-empty-dirs --no-resave-data PeacoQC StartedAt: 2025-07-15 01:45:20 -0000 (Tue, 15 Jul 2025) EndedAt: 2025-07-15 01:46:24 -0000 (Tue, 15 Jul 2025) EllapsedTime: 64.0 seconds RetCode: 0 Status: OK PackageFile: PeacoQC_1.19.0.tar.gz PackageFileSize: 1.516 MiB