Package: PeacoQC Version: 1.19.0 Command: F:\biocbuild\bbs-3.22-bioc\R\bin\R.exe CMD INSTALL PeacoQC StartedAt: 2025-07-20 15:54:39 -0400 (Sun, 20 Jul 2025) EndedAt: 2025-07-20 15:55:02 -0400 (Sun, 20 Jul 2025) EllapsedTime: 23.6 seconds RetCode: 0 Status: OK