Package: PeacoQC Version: 1.19.0 Command: chmod a+r PeacoQC -R && F:\biocbuild\bbs-3.22-bioc\R\bin\R.exe CMD build --keep-empty-dirs --no-resave-data PeacoQC StartedAt: 2025-07-20 21:03:42 -0400 (Sun, 20 Jul 2025) EndedAt: 2025-07-20 21:04:45 -0400 (Sun, 20 Jul 2025) EllapsedTime: 62.5 seconds RetCode: 0 Status: OK PackageFile: PeacoQC_1.19.0.tar.gz PackageFileSize: 1.521 MiB