Package: PeacoQC Version: 1.19.0 Command: rm -rf PeacoQC.buildbin-libdir && mkdir PeacoQC.buildbin-libdir && F:\biocbuild\bbs-3.22-bioc\R\bin\R.exe CMD INSTALL --build --library=PeacoQC.buildbin-libdir PeacoQC_1.19.0.tar.gz StartedAt: 2025-07-21 09:41:06 -0400 (Mon, 21 Jul 2025) EndedAt: 2025-07-21 09:41:36 -0400 (Mon, 21 Jul 2025) EllapsedTime: 29.7 seconds RetCode: 0 Status: OK PackageFile: PeacoQC_1.19.0.zip PackageFileSize: 1.599 MiB