Package: PeacoQC Version: 1.19.0 Command: /home/biocbuild/bbs-3.22-bioc/R/bin/R CMD INSTALL PeacoQC StartedAt: 2025-10-05 15:24:15 -0400 (Sun, 05 Oct 2025) EndedAt: 2025-10-05 15:24:30 -0400 (Sun, 05 Oct 2025) EllapsedTime: 15.1 seconds RetCode: 0 Status: OK