Package: PeacoQC Version: 1.19.0 Command: /Library/Frameworks/R.framework/Resources/bin/R CMD INSTALL PeacoQC StartedAt: 2025-07-01 15:38:12 -0400 (Tue, 01 Jul 2025) EndedAt: 2025-07-01 15:38:33 -0400 (Tue, 01 Jul 2025) EllapsedTime: 20.6 seconds RetCode: 0 Status: OK