Package: PeacoQC Version: 1.19.0 Command: /Library/Frameworks/R.framework/Resources/bin/R CMD build --keep-empty-dirs --no-resave-data PeacoQC StartedAt: 2025-07-01 18:03:35 -0400 (Tue, 01 Jul 2025) EndedAt: 2025-07-01 18:04:34 -0400 (Tue, 01 Jul 2025) EllapsedTime: 58.3 seconds RetCode: 0 Status: OK PackageFile: PeacoQC_1.19.0.tar.gz PackageFileSize: 1.52 MiB