Package: PeacoQC Version: 1.19.0 Command: /Library/Frameworks/R.framework/Resources/bin/R CMD check --install=check:PeacoQC.install-out.txt --library=/Library/Frameworks/R.framework/Resources/library --no-vignettes --timings PeacoQC_1.19.0.tar.gz StartedAt: 2025-10-05 20:59:40 -0400 (Sun, 05 Oct 2025) EndedAt: 2025-10-05 21:00:33 -0400 (Sun, 05 Oct 2025) EllapsedTime: 53.6 seconds RetCode: 0 Status: OK CheckDir: PeacoQC.Rcheck Warnings: 0