Package: PathNet Version: 1.49.0 Command: /home/biocbuild/R/R/bin/R CMD INSTALL PathNet StartedAt: 2025-07-14 20:10:00 -0000 (Mon, 14 Jul 2025) EndedAt: 2025-07-14 20:10:10 -0000 (Mon, 14 Jul 2025) EllapsedTime: 9.9 seconds RetCode: 0 Status: OK