Package: PathNet Version: 1.49.0 Command: F:\biocbuild\bbs-3.22-bioc\R\bin\R.exe CMD check --no-multiarch --install=check:PathNet.install-out.txt --library=F:\biocbuild\bbs-3.22-bioc\R\library --no-vignettes --timings PathNet_1.49.0.tar.gz StartedAt: 2025-06-30 04:47:34 -0400 (Mon, 30 Jun 2025) EndedAt: 2025-06-30 04:48:46 -0400 (Mon, 30 Jun 2025) EllapsedTime: 71.3 seconds RetCode: 0 Status: OK CheckDir: PathNet.Rcheck Warnings: 0