Package: PathNet Version: 1.49.0 Command: chmod a+r PathNet -R && F:\biocbuild\bbs-3.22-bioc\R\bin\R.exe CMD build --keep-empty-dirs --no-resave-data PathNet StartedAt: 2025-06-29 21:02:43 -0400 (Sun, 29 Jun 2025) EndedAt: 2025-06-29 21:04:14 -0400 (Sun, 29 Jun 2025) EllapsedTime: 90.9 seconds RetCode: 0 Status: OK PackageFile: PathNet_1.49.0.tar.gz PackageFileSize: 719.8 KiB