Package: PathNet Version: 1.49.0 Command: rm -rf PathNet.buildbin-libdir && mkdir PathNet.buildbin-libdir && F:\biocbuild\bbs-3.22-bioc\R\bin\R.exe CMD INSTALL --build --library=PathNet.buildbin-libdir PathNet_1.49.0.tar.gz StartedAt: 2025-06-30 09:22:36 -0400 (Mon, 30 Jun 2025) EndedAt: 2025-06-30 09:22:44 -0400 (Mon, 30 Jun 2025) EllapsedTime: 8.3 seconds RetCode: 0 Status: OK PackageFile: PathNet_1.49.0.zip PackageFileSize: 232.9 KiB