Package: PathNet Version: 1.49.0 Command: /Library/Frameworks/R.framework/Resources/bin/R CMD check --install=check:PathNet.install-out.txt --library=/Library/Frameworks/R.framework/Resources/library --no-vignettes --timings PathNet_1.49.0.tar.gz StartedAt: 2025-07-15 20:38:35 -0400 (Tue, 15 Jul 2025) EndedAt: 2025-07-15 20:38:58 -0400 (Tue, 15 Jul 2025) EllapsedTime: 23.3 seconds RetCode: 0 Status: OK CheckDir: PathNet.Rcheck Warnings: 0