Package: Path2PPI Version: 1.39.0 Command: chmod a+r Path2PPI -R && F:\biocbuild\bbs-3.22-bioc\R\bin\R.exe CMD build --keep-empty-dirs --no-resave-data Path2PPI StartedAt: 2025-07-24 21:15:59 -0400 (Thu, 24 Jul 2025) EndedAt: 2025-07-24 21:16:36 -0400 (Thu, 24 Jul 2025) EllapsedTime: 36.5 seconds RetCode: 0 Status: OK PackageFile: Path2PPI_1.39.0.tar.gz PackageFileSize: 1.239 MiB