Package: Path2PPI Version: 1.39.0 Command: rm -rf Path2PPI.buildbin-libdir && mkdir Path2PPI.buildbin-libdir && F:\biocbuild\bbs-3.22-bioc\R\bin\R.exe CMD INSTALL --build --library=Path2PPI.buildbin-libdir Path2PPI_1.39.0.tar.gz StartedAt: 2025-07-25 09:53:53 -0400 (Fri, 25 Jul 2025) EndedAt: 2025-07-25 09:54:23 -0400 (Fri, 25 Jul 2025) EllapsedTime: 30.1 seconds RetCode: 0 Status: OK PackageFile: Path2PPI_1.39.0.zip PackageFileSize: 1.135 MiB