Package: Path2PPI Version: 1.39.0 Command: /Library/Frameworks/R.framework/Resources/bin/R CMD check --install=check:Path2PPI.install-out.txt --library=/Library/Frameworks/R.framework/Resources/library --no-vignettes --timings Path2PPI_1.39.0.tar.gz StartedAt: 2025-07-01 22:37:29 -0400 (Tue, 01 Jul 2025) EndedAt: 2025-07-01 22:38:46 -0400 (Tue, 01 Jul 2025) EllapsedTime: 76.6 seconds RetCode: 0 Status: OK CheckDir: Path2PPI.Rcheck Warnings: 0