Package: Path2PPI Version: 1.39.0 Command: rm -rf Path2PPI.buildbin-libdir && mkdir Path2PPI.buildbin-libdir && /Users/biocbuild/BBS/utils/build-universal.sh Path2PPI_1.39.0.tar.gz /Library/Frameworks/R.framework/Resources/bin/R Path2PPI.buildbin-libdir StartedAt: 2025-07-02 01:11:19 -0400 (Wed, 02 Jul 2025) EndedAt: 2025-07-02 01:11:30 -0400 (Wed, 02 Jul 2025) EllapsedTime: 10.5 seconds RetCode: 0 Status: OK PackageFile: Path2PPI_1.39.0.tgz PackageFileSize: 1.338 MiB