Package: Path2PPI Version: 1.39.0 Command: /Library/Frameworks/R.framework/Resources/bin/R CMD INSTALL Path2PPI StartedAt: 2025-07-11 15:03:48 -0400 (Fri, 11 Jul 2025) EndedAt: 2025-07-11 15:04:01 -0400 (Fri, 11 Jul 2025) EllapsedTime: 13.6 seconds RetCode: 0 Status: OK